BEGIN:VCALENDAR
VERSION:2.0
PRODID:-//Tukios.com/
BEGIN:VEVENT
UID:376fa5c8-10db-4004-aab1-644b826b27f8@www.mullinscurtis.com
DTSTAMP:20260423T095917Z
DTSTART:20260508T143000Z
DTEND:20260508T153000Z
SUMMARY:Mass
DESCRIPTION:
URL:https://www.mullinscurtis.com/obituaries/theodore-csaszar
LOCATION: 8121 Cypress Lake Drive  Fort Myers FL 33919
GEO:26.545288;-81.8883252
END:VEVENT
END:VCALENDAR